BEGIN:VCALENDAR
VERSION:2.0
PRODID:-//Chicago&#039;s 50th Ward - ECPv6.15.20//NONSGML v1.0//EN
CALSCALE:GREGORIAN
METHOD:PUBLISH
X-WR-CALNAME:Chicago&#039;s 50th Ward
X-ORIGINAL-URL:https://50thward.org
X-WR-CALDESC:Events for Chicago&#039;s 50th Ward
REFRESH-INTERVAL;VALUE=DURATION:PT1H
X-Robots-Tag:noindex
X-PUBLISHED-TTL:PT1H
BEGIN:VTIMEZONE
TZID:UTC
BEGIN:STANDARD
TZOFFSETFROM:+0000
TZOFFSETTO:+0000
TZNAME:UTC
DTSTART:20250101T000000
END:STANDARD
END:VTIMEZONE
BEGIN:VEVENT
DTSTART;TZID=UTC:20260422T183000
DTEND;TZID=UTC:20260422T193000
DTSTAMP:20260422T030352
CREATED:20260107T155412Z
LAST-MODIFIED:20260107T155412Z
UID:1222-1776882600-1776886200@50thward.org
SUMMARY:Beat 1711 CAPS Meeting
DESCRIPTION:CAPS meeting for Police Beat 1711 – with police officers. \nFor more information\, call the Community Policing Office at (312) 742-4588 or the 50th Ward Office at (773) 262-1050.
URL:https://50thward.org/event/beat-1711-caps-meeting-18/
LOCATION:Mayfair Church / Salvation Army\, 5020 N. Pulaski Rd\, Chicago\, IL\, 60630
CATEGORIES:Beat 1711,Police Events
ATTACH;FMTTYPE=image/jpeg:https://50thward.org/wp-content/uploads/2023/12/Chicago-Police-Car-widescreen.jpg
ORGANIZER;CN="17th District CAPS Office":MAILTO:CAPS.017District@chicagopolice.org
END:VEVENT
END:VCALENDAR