BEGIN:VCALENDAR
VERSION:2.0
PRODID:-//Chicago&#039;s 50th Ward - ECPv6.15.20//NONSGML v1.0//EN
CALSCALE:GREGORIAN
METHOD:PUBLISH
X-ORIGINAL-URL:https://50thward.org
X-WR-CALDESC:Events for Chicago&#039;s 50th Ward
REFRESH-INTERVAL;VALUE=DURATION:PT1H
X-Robots-Tag:noindex
X-PUBLISHED-TTL:PT1H
BEGIN:VTIMEZONE
TZID:UTC
BEGIN:STANDARD
TZOFFSETFROM:+0000
TZOFFSETTO:+0000
TZNAME:UTC
DTSTART:20250101T000000
END:STANDARD
END:VTIMEZONE
BEGIN:VEVENT
DTSTART;TZID=UTC:20260422T183000
DTEND;TZID=UTC:20260422T193000
DTSTAMP:20260421T182752
CREATED:20260107T155412Z
LAST-MODIFIED:20260107T155412Z
UID:1222-1776882600-1776886200@50thward.org
SUMMARY:Beat 1711 CAPS Meeting
DESCRIPTION:CAPS meeting for Police Beat 1711 – with police officers. \nFor more information\, call the Community Policing Office at (312) 742-4588 or the 50th Ward Office at (773) 262-1050.
URL:https://50thward.org/event/beat-1711-caps-meeting-18/
LOCATION:Mayfair Church / Salvation Army\, 5020 N. Pulaski Rd\, Chicago\, IL\, 60630
CATEGORIES:Beat 1711,Police Events
ATTACH;FMTTYPE=image/jpeg:https://50thward.org/wp-content/uploads/2023/12/Chicago-Police-Car-widescreen.jpg
ORGANIZER;CN="17th District CAPS Office":MAILTO:CAPS.017District@chicagopolice.org
END:VEVENT
BEGIN:VEVENT
DTSTART;TZID=UTC:20260428T190000
DTEND;TZID=UTC:20260428T200000
DTSTAMP:20260421T182752
CREATED:20260204T163207Z
LAST-MODIFIED:20260204T163207Z
UID:1364-1777402800-1777406400@50thward.org
SUMMARY:Beat 2413 CAPS Meeting
DESCRIPTION:CAPS meeting for Police Beat 2413 – with police officers. \nFor more information\, call the Community Policing Office at (312) 744-6321 or the 50th Ward Office at (773) 262-1050.
URL:https://50thward.org/event/beat-2413-caps-meeting-18/
LOCATION:Green Briar Park\, 2650 W. Peterson Ave\, Chicago\, IL\, 60659
CATEGORIES:Beat 2413,Police Events
ATTACH;FMTTYPE=image/jpeg:https://50thward.org/wp-content/uploads/2023/12/Chicago-Police-Car-widescreen.jpg
ORGANIZER;CN="24th District CAPS Office":MAILTO:CAPS.024District@chicagopolice.org
END:VEVENT
BEGIN:VEVENT
DTSTART;TZID=UTC:20260504T190000
DTEND;TZID=UTC:20260504T200000
DTSTAMP:20260421T182752
CREATED:20260107T154640Z
LAST-MODIFIED:20260107T154640Z
UID:1204-1777921200-1777924800@50thward.org
SUMMARY:Beat 2011 CAPS Meeting
DESCRIPTION:CAPS meeting for Police Beat 2011 – with police officers. \nFor more information\, call the Community Policing Office at (312) 742-8770 or the 50th Ward Office at (773) 262-1050.
URL:https://50thward.org/event/beat-2011-caps-meeting-18/
LOCATION:20th District Station\, 5400 N. Lincoln Ave\, Chicago\, IL\, 60625
CATEGORIES:Beat 2011,Police Events
ATTACH;FMTTYPE=image/jpeg:https://50thward.org/wp-content/uploads/2023/12/Chicago-Police-Car-widescreen.jpg
ORGANIZER;CN="20th District CAPS Office":MAILTO:CAPS.020District@chicagopolice.org
END:VEVENT
BEGIN:VEVENT
DTSTART;TZID=UTC:20260505T190000
DTEND;TZID=UTC:20260505T200000
DTSTAMP:20260421T182752
CREATED:20260202T162448Z
LAST-MODIFIED:20260202T162903Z
UID:1320-1778007600-1778011200@50thward.org
SUMMARY:Beat 2411 CAPS Meeting
DESCRIPTION:CAPS meeting for Police Beat 2411 – with police officers. \nFor more information\, call the Community Policing Office at (312) 744-6321 or the 50th Ward Office at (773) 262-1050.
URL:https://50thward.org/event/beat-2411-caps-meeting-17/
LOCATION:Bethesda International Academy\, 6803 N. Campbell Ave\, Chicago\, IL\, 60645
CATEGORIES:Beat 2411,Police Events
ATTACH;FMTTYPE=image/jpeg:https://50thward.org/wp-content/uploads/2023/12/Chicago-Police-Car-widescreen.jpg
ORGANIZER;CN="24th District CAPS Office":MAILTO:CAPS.024District@chicagopolice.org
END:VEVENT
BEGIN:VEVENT
DTSTART;TZID=UTC:20260506T190000
DTEND;TZID=UTC:20260506T200000
DTSTAMP:20260421T182752
CREATED:20260202T163817Z
LAST-MODIFIED:20260202T163817Z
UID:1342-1778094000-1778097600@50thward.org
SUMMARY:Beat 2412 CAPS Meeting
DESCRIPTION:CAPS meeting for Police Beat 2412 – with police officers. \nFor more information\, call the Community Policing Office at (312) 744-6321 or the 50th Ward Office at (773) 262-1050.
URL:https://50thward.org/event/beat-2412-caps-meeting-13/
LOCATION:Warren Park\, 6601 N. Western Ave\, Chicago\, IL\, 60645
CATEGORIES:Beat 2412,Police Events
ATTACH;FMTTYPE=image/jpeg:https://50thward.org/wp-content/uploads/2023/12/Chicago-Police-Car-widescreen.jpg
ORGANIZER;CN="24th District CAPS Office":MAILTO:CAPS.024District@chicagopolice.org
END:VEVENT
BEGIN:VEVENT
DTSTART;TZID=UTC:20260526T190000
DTEND;TZID=UTC:20260526T200000
DTSTAMP:20260421T182752
CREATED:20260107T160139Z
LAST-MODIFIED:20260107T160139Z
UID:1238-1779822000-1779825600@50thward.org
SUMMARY:Beat 2413 CAPS Meeting
DESCRIPTION:CAPS meeting for Police Beat 2413 – with police officers. \nFor more information\, call the Community Policing Office at (312) 744-6321 or the 50th Ward Office at (773) 262-1050.
URL:https://50thward.org/event/beat-2413-caps-meeting-14/
LOCATION:Green Briar Park\, 2650 W. Peterson Ave\, Chicago\, IL\, 60659
CATEGORIES:Beat 2413,Police Events
ATTACH;FMTTYPE=image/jpeg:https://50thward.org/wp-content/uploads/2023/12/Chicago-Police-Car-widescreen.jpg
ORGANIZER;CN="24th District CAPS Office":MAILTO:CAPS.024District@chicagopolice.org
END:VEVENT
BEGIN:VEVENT
DTSTART;TZID=UTC:20260601T190000
DTEND;TZID=UTC:20260601T200000
DTSTAMP:20260421T182752
CREATED:20260107T154711Z
LAST-MODIFIED:20260107T154711Z
UID:1206-1780340400-1780344000@50thward.org
SUMMARY:Beat 2011 CAPS Meeting
DESCRIPTION:CAPS meeting for Police Beat 2011 – with police officers. \nFor more information\, call the Community Policing Office at (312) 742-8770 or the 50th Ward Office at (773) 262-1050.
URL:https://50thward.org/event/beat-2011-caps-meeting-19/
LOCATION:20th District Station\, 5400 N. Lincoln Ave\, Chicago\, IL\, 60625
CATEGORIES:Beat 2011,Police Events
ATTACH;FMTTYPE=image/jpeg:https://50thward.org/wp-content/uploads/2023/12/Chicago-Police-Car-widescreen.jpg
ORGANIZER;CN="20th District CAPS Office":MAILTO:CAPS.020District@chicagopolice.org
END:VEVENT
BEGIN:VEVENT
DTSTART;TZID=UTC:20260602T190000
DTEND;TZID=UTC:20260602T200000
DTSTAMP:20260421T182752
CREATED:20260204T161959Z
LAST-MODIFIED:20260204T162334Z
UID:1352-1780426800-1780430400@50thward.org
SUMMARY:Beat 2411 CAPS Meeting
DESCRIPTION:CAPS meeting for Police Beat 2411 – with police officers. \nFor more information\, call the Community Policing Office at (312) 744-6321 or the 50th Ward Office at (773) 262-1050.
URL:https://50thward.org/event/beat-2411-caps-meeting-22/
LOCATION:Bethesda International Academy\, 6803 N. Campbell Ave\, Chicago\, IL\, 60645
CATEGORIES:Beat 2411,Police Events
ATTACH;FMTTYPE=image/jpeg:https://50thward.org/wp-content/uploads/2023/12/Chicago-Police-Car-widescreen.jpg
ORGANIZER;CN="24th District CAPS Office":MAILTO:CAPS.024District@chicagopolice.org
END:VEVENT
BEGIN:VEVENT
DTSTART;TZID=UTC:20260603T190000
DTEND;TZID=UTC:20260603T200000
DTSTAMP:20260421T182752
CREATED:20260204T162846Z
LAST-MODIFIED:20260204T162846Z
UID:1360-1780513200-1780516800@50thward.org
SUMMARY:Beat 2412 CAPS Meeting
DESCRIPTION:CAPS meeting for Police Beat 2412 – with police officers. \nFor more information\, call the Community Policing Office at (312) 744-6321 or the 50th Ward Office at (773) 262-1050.
URL:https://50thward.org/event/beat-2412-caps-meeting-19/
LOCATION:Warren Park\, 6601 N. Western Ave\, Chicago\, IL\, 60645
CATEGORIES:Beat 2412,Police Events
ATTACH;FMTTYPE=image/jpeg:https://50thward.org/wp-content/uploads/2023/12/Chicago-Police-Car-widescreen.jpg
ORGANIZER;CN="24th District CAPS Office":MAILTO:CAPS.024District@chicagopolice.org
END:VEVENT
BEGIN:VEVENT
DTSTART;TZID=UTC:20260623T190000
DTEND;TZID=UTC:20260623T200000
DTSTAMP:20260421T182752
CREATED:20260204T163247Z
LAST-MODIFIED:20260204T163247Z
UID:1365-1782241200-1782244800@50thward.org
SUMMARY:Beat 2413 CAPS Meeting
DESCRIPTION:CAPS meeting for Police Beat 2413 – with police officers. \nFor more information\, call the Community Policing Office at (312) 744-6321 or the 50th Ward Office at (773) 262-1050.
URL:https://50thward.org/event/beat-2413-caps-meeting-19/
LOCATION:Green Briar Park\, 2650 W. Peterson Ave\, Chicago\, IL\, 60659
CATEGORIES:Beat 2413,Police Events
ATTACH;FMTTYPE=image/jpeg:https://50thward.org/wp-content/uploads/2023/12/Chicago-Police-Car-widescreen.jpg
ORGANIZER;CN="24th District CAPS Office":MAILTO:CAPS.024District@chicagopolice.org
END:VEVENT
BEGIN:VEVENT
DTSTART;TZID=UTC:20260624T183000
DTEND;TZID=UTC:20260624T193000
DTSTAMP:20260421T182752
CREATED:20260107T155505Z
LAST-MODIFIED:20260107T155505Z
UID:1224-1782325800-1782329400@50thward.org
SUMMARY:Beat 1711 CAPS Meeting
DESCRIPTION:CAPS meeting for Police Beat 1711 – with police officers. \nFor more information\, call the Community Policing Office at (312) 742-4588 or the 50th Ward Office at (773) 262-1050.
URL:https://50thward.org/event/beat-1711-caps-meeting-19/
LOCATION:Mayfair Church / Salvation Army\, 5020 N. Pulaski Rd\, Chicago\, IL\, 60630
CATEGORIES:Beat 1711,Police Events
ATTACH;FMTTYPE=image/jpeg:https://50thward.org/wp-content/uploads/2023/12/Chicago-Police-Car-widescreen.jpg
ORGANIZER;CN="17th District CAPS Office":MAILTO:CAPS.017District@chicagopolice.org
END:VEVENT
BEGIN:VEVENT
DTSTART;TZID=UTC:20260701T190000
DTEND;TZID=UTC:20260701T200000
DTSTAMP:20260421T182752
CREATED:20260202T163849Z
LAST-MODIFIED:20260202T163849Z
UID:1344-1782932400-1782936000@50thward.org
SUMMARY:Beat 2412 CAPS Meeting
DESCRIPTION:CAPS meeting for Police Beat 2412 – with police officers. \nFor more information\, call the Community Policing Office at (312) 744-6321 or the 50th Ward Office at (773) 262-1050.
URL:https://50thward.org/event/beat-2412-caps-meeting-14/
LOCATION:Warren Park\, 6601 N. Western Ave\, Chicago\, IL\, 60645
CATEGORIES:Beat 2412,Police Events
ATTACH;FMTTYPE=image/jpeg:https://50thward.org/wp-content/uploads/2023/12/Chicago-Police-Car-widescreen.jpg
ORGANIZER;CN="24th District CAPS Office":MAILTO:CAPS.024District@chicagopolice.org
END:VEVENT
BEGIN:VEVENT
DTSTART;TZID=UTC:20260706T190000
DTEND;TZID=UTC:20260706T200000
DTSTAMP:20260421T182752
CREATED:20260107T154742Z
LAST-MODIFIED:20260107T154742Z
UID:1208-1783364400-1783368000@50thward.org
SUMMARY:Beat 2011 CAPS Meeting
DESCRIPTION:CAPS meeting for Police Beat 2011 – with police officers. \nFor more information\, call the Community Policing Office at (312) 742-8770 or the 50th Ward Office at (773) 262-1050.
URL:https://50thward.org/event/beat-2011-caps-meeting-20/
LOCATION:20th District Station\, 5400 N. Lincoln Ave\, Chicago\, IL\, 60625
CATEGORIES:Beat 2011,Police Events
ATTACH;FMTTYPE=image/jpeg:https://50thward.org/wp-content/uploads/2023/12/Chicago-Police-Car-widescreen.jpg
ORGANIZER;CN="20th District CAPS Office":MAILTO:CAPS.020District@chicagopolice.org
END:VEVENT
BEGIN:VEVENT
DTSTART;TZID=UTC:20260707T190000
DTEND;TZID=UTC:20260707T200000
DTSTAMP:20260421T182752
CREATED:20260202T162528Z
LAST-MODIFIED:20260202T162528Z
UID:1322-1783450800-1783454400@50thward.org
SUMMARY:Beat 2411 CAPS Meeting
DESCRIPTION:CAPS meeting for Police Beat 2411 – with police officers. \nFor more information\, call the Community Policing Office at (312) 744-6321 or the 50th Ward Office at (773) 262-1050.
URL:https://50thward.org/event/beat-2411-caps-meeting-18/
LOCATION:Bethesda International Academy\, 6803 N. Campbell Ave\, Chicago\, IL\, 60645
CATEGORIES:Beat 2411,Police Events
ATTACH;FMTTYPE=image/jpeg:https://50thward.org/wp-content/uploads/2023/12/Chicago-Police-Car-widescreen.jpg
ORGANIZER;CN="24th District CAPS Office":MAILTO:CAPS.024District@chicagopolice.org
END:VEVENT
BEGIN:VEVENT
DTSTART;TZID=UTC:20260728T190000
DTEND;TZID=UTC:20260728T200000
DTSTAMP:20260421T182752
CREATED:20260107T160215Z
LAST-MODIFIED:20260107T160215Z
UID:1240-1785265200-1785268800@50thward.org
SUMMARY:Beat 2413 CAPS Meeting
DESCRIPTION:CAPS meeting for Police Beat 2413 – with police officers. \nFor more information\, call the Community Policing Office at (312) 744-6321 or the 50th Ward Office at (773) 262-1050.
URL:https://50thward.org/event/beat-2413-caps-meeting-15/
LOCATION:Green Briar Park\, 2650 W. Peterson Ave\, Chicago\, IL\, 60659
CATEGORIES:Beat 2413,Police Events
ATTACH;FMTTYPE=image/jpeg:https://50thward.org/wp-content/uploads/2023/12/Chicago-Police-Car-widescreen.jpg
ORGANIZER;CN="24th District CAPS Office":MAILTO:CAPS.024District@chicagopolice.org
END:VEVENT
BEGIN:VEVENT
DTSTART;TZID=UTC:20260803T190000
DTEND;TZID=UTC:20260803T200000
DTSTAMP:20260421T182752
CREATED:20260107T154816Z
LAST-MODIFIED:20260107T154816Z
UID:1210-1785783600-1785787200@50thward.org
SUMMARY:Beat 2011 CAPS Meeting
DESCRIPTION:CAPS meeting for Police Beat 2011 – with police officers. \nFor more information\, call the Community Policing Office at (312) 742-8770 or the 50th Ward Office at (773) 262-1050.
URL:https://50thward.org/event/beat-2011-caps-meeting-21/
LOCATION:20th District Station\, 5400 N. Lincoln Ave\, Chicago\, IL\, 60625
CATEGORIES:Beat 2011,Police Events
ATTACH;FMTTYPE=image/jpeg:https://50thward.org/wp-content/uploads/2023/12/Chicago-Police-Car-widescreen.jpg
ORGANIZER;CN="20th District CAPS Office":MAILTO:CAPS.020District@chicagopolice.org
END:VEVENT
BEGIN:VEVENT
DTSTART;TZID=UTC:20260804T190000
DTEND;TZID=UTC:20260804T200000
DTSTAMP:20260421T182752
CREATED:20260204T162050Z
LAST-MODIFIED:20260204T162050Z
UID:1354-1785870000-1785873600@50thward.org
SUMMARY:Beat 2411 CAPS Meeting
DESCRIPTION:CAPS meeting for Police Beat 2411 – with police officers. \nFor more information\, call the Community Policing Office at (312) 744-6321 or the 50th Ward Office at (773) 262-1050.
URL:https://50thward.org/event/beat-2411-caps-meeting-23/
LOCATION:Bethesda International Academy\, 6803 N. Campbell Ave\, Chicago\, IL\, 60645
CATEGORIES:Beat 2411,Police Events
ATTACH;FMTTYPE=image/jpeg:https://50thward.org/wp-content/uploads/2023/12/Chicago-Police-Car-widescreen.jpg
ORGANIZER;CN="24th District CAPS Office":MAILTO:CAPS.024District@chicagopolice.org
END:VEVENT
BEGIN:VEVENT
DTSTART;TZID=UTC:20260825T190000
DTEND;TZID=UTC:20260825T200000
DTSTAMP:20260421T182752
CREATED:20260204T163313Z
LAST-MODIFIED:20260204T163313Z
UID:1367-1787684400-1787688000@50thward.org
SUMMARY:Beat 2413 CAPS Meeting
DESCRIPTION:CAPS meeting for Police Beat 2413 – with police officers. \nFor more information\, call the Community Policing Office at (312) 744-6321 or the 50th Ward Office at (773) 262-1050.
URL:https://50thward.org/event/beat-2413-caps-meeting-20/
LOCATION:Green Briar Park\, 2650 W. Peterson Ave\, Chicago\, IL\, 60659
CATEGORIES:Beat 2413,Police Events
ATTACH;FMTTYPE=image/jpeg:https://50thward.org/wp-content/uploads/2023/12/Chicago-Police-Car-widescreen.jpg
ORGANIZER;CN="24th District CAPS Office":MAILTO:CAPS.024District@chicagopolice.org
END:VEVENT
BEGIN:VEVENT
DTSTART;TZID=UTC:20260826T183000
DTEND;TZID=UTC:20260826T193000
DTSTAMP:20260421T182752
CREATED:20260107T155543Z
LAST-MODIFIED:20260107T155543Z
UID:1226-1787769000-1787772600@50thward.org
SUMMARY:Beat 1711 CAPS Meeting
DESCRIPTION:CAPS meeting for Police Beat 1711 – with police officers. \nFor more information\, call the Community Policing Office at (312) 742-4588 or the 50th Ward Office at (773) 262-1050.
URL:https://50thward.org/event/beat-1711-caps-meeting-20/
LOCATION:Mayfair Church / Salvation Army\, 5020 N. Pulaski Rd\, Chicago\, IL\, 60630
CATEGORIES:Beat 1711,Police Events
ATTACH;FMTTYPE=image/jpeg:https://50thward.org/wp-content/uploads/2023/12/Chicago-Police-Car-widescreen.jpg
ORGANIZER;CN="17th District CAPS Office":MAILTO:CAPS.017District@chicagopolice.org
END:VEVENT
BEGIN:VEVENT
DTSTART;TZID=UTC:20260901T190000
DTEND;TZID=UTC:20260901T200000
DTSTAMP:20260421T182752
CREATED:20260202T162721Z
LAST-MODIFIED:20260202T162721Z
UID:1324-1788289200-1788292800@50thward.org
SUMMARY:Beat 2411 CAPS Meeting
DESCRIPTION:CAPS meeting for Police Beat 2411 – with police officers. \nFor more information\, call the Community Policing Office at (312) 744-6321 or the 50th Ward Office at (773) 262-1050.
URL:https://50thward.org/event/beat-2411-caps-meeting-19/
LOCATION:Bethesda International Academy\, 6803 N. Campbell Ave\, Chicago\, IL\, 60645
CATEGORIES:Beat 2411,Police Events
ATTACH;FMTTYPE=image/jpeg:https://50thward.org/wp-content/uploads/2023/12/Chicago-Police-Car-widescreen.jpg
ORGANIZER;CN="24th District CAPS Office":MAILTO:CAPS.024District@chicagopolice.org
END:VEVENT
BEGIN:VEVENT
DTSTART;TZID=UTC:20260902T190000
DTEND;TZID=UTC:20260902T200000
DTSTAMP:20260421T182752
CREATED:20260202T164002Z
LAST-MODIFIED:20260202T164002Z
UID:1346-1788375600-1788379200@50thward.org
SUMMARY:Beat 2412 CAPS Meeting
DESCRIPTION:CAPS meeting for Police Beat 2412 – with police officers. \nFor more information\, call the Community Policing Office at (312) 744-6321 or the 50th Ward Office at (773) 262-1050.
URL:https://50thward.org/event/beat-2412-caps-meeting-15/
LOCATION:Warren Park\, 6601 N. Western Ave\, Chicago\, IL\, 60645
CATEGORIES:Beat 2412,Police Events
ATTACH;FMTTYPE=image/jpeg:https://50thward.org/wp-content/uploads/2023/12/Chicago-Police-Car-widescreen.jpg
ORGANIZER;CN="24th District CAPS Office":MAILTO:CAPS.024District@chicagopolice.org
END:VEVENT
BEGIN:VEVENT
DTSTART;TZID=UTC:20260908T190000
DTEND;TZID=UTC:20260908T200000
DTSTAMP:20260421T182752
CREATED:20260107T154844Z
LAST-MODIFIED:20260107T154844Z
UID:1212-1788894000-1788897600@50thward.org
SUMMARY:Beat 2011 CAPS Meeting
DESCRIPTION:CAPS meeting for Police Beat 2011 – with police officers. \nFor more information\, call the Community Policing Office at (312) 742-8770 or the 50th Ward Office at (773) 262-1050.
URL:https://50thward.org/event/beat-2011-caps-meeting-22/
LOCATION:20th District Station\, 5400 N. Lincoln Ave\, Chicago\, IL\, 60625
CATEGORIES:Beat 2011,Police Events
ATTACH;FMTTYPE=image/jpeg:https://50thward.org/wp-content/uploads/2023/12/Chicago-Police-Car-widescreen.jpg
ORGANIZER;CN="20th District CAPS Office":MAILTO:CAPS.020District@chicagopolice.org
END:VEVENT
BEGIN:VEVENT
DTSTART;TZID=UTC:20260922T190000
DTEND;TZID=UTC:20260922T200000
DTSTAMP:20260421T182752
CREATED:20260107T160419Z
LAST-MODIFIED:20260107T160419Z
UID:1242-1790103600-1790107200@50thward.org
SUMMARY:Beat 2413 CAPS Meeting
DESCRIPTION:CAPS meeting for Police Beat 2413 – with police officers. \nFor more information\, call the Community Policing Office at (312) 744-6321 or the 50th Ward Office at (773) 262-1050.
URL:https://50thward.org/event/beat-2413-caps-meeting-16/
LOCATION:Green Briar Park\, 2650 W. Peterson Ave\, Chicago\, IL\, 60659
CATEGORIES:Beat 2413,Police Events
ATTACH;FMTTYPE=image/jpeg:https://50thward.org/wp-content/uploads/2023/12/Chicago-Police-Car-widescreen.jpg
ORGANIZER;CN="24th District CAPS Office":MAILTO:CAPS.024District@chicagopolice.org
END:VEVENT
BEGIN:VEVENT
DTSTART;TZID=UTC:20261005T190000
DTEND;TZID=UTC:20261005T200000
DTSTAMP:20260421T182752
CREATED:20260107T154918Z
LAST-MODIFIED:20260107T154918Z
UID:1214-1791226800-1791230400@50thward.org
SUMMARY:Beat 2011 CAPS Meeting
DESCRIPTION:CAPS meeting for Police Beat 2011 – with police officers. \nFor more information\, call the Community Policing Office at (312) 742-8770 or the 50th Ward Office at (773) 262-1050.
URL:https://50thward.org/event/beat-2011-caps-meeting-23/
LOCATION:20th District Station\, 5400 N. Lincoln Ave\, Chicago\, IL\, 60625
CATEGORIES:Beat 2011,Police Events
ATTACH;FMTTYPE=image/jpeg:https://50thward.org/wp-content/uploads/2023/12/Chicago-Police-Car-widescreen.jpg
ORGANIZER;CN="20th District CAPS Office":MAILTO:CAPS.020District@chicagopolice.org
END:VEVENT
BEGIN:VEVENT
DTSTART;TZID=UTC:20261007T190000
DTEND;TZID=UTC:20261007T200000
DTSTAMP:20260421T182752
CREATED:20260204T162927Z
LAST-MODIFIED:20260204T162927Z
UID:1362-1791399600-1791403200@50thward.org
SUMMARY:Beat 2412 CAPS Meeting
DESCRIPTION:CAPS meeting for Police Beat 2412 – with police officers. \nFor more information\, call the Community Policing Office at (312) 744-6321 or the 50th Ward Office at (773) 262-1050.
URL:https://50thward.org/event/beat-2412-caps-meeting-20/
LOCATION:Warren Park\, 6601 N. Western Ave\, Chicago\, IL\, 60645
CATEGORIES:Beat 2412,Police Events
ATTACH;FMTTYPE=image/jpeg:https://50thward.org/wp-content/uploads/2023/12/Chicago-Police-Car-widescreen.jpg
ORGANIZER;CN="24th District CAPS Office":MAILTO:CAPS.024District@chicagopolice.org
END:VEVENT
BEGIN:VEVENT
DTSTART;TZID=UTC:20261027T190000
DTEND;TZID=UTC:20261027T200000
DTSTAMP:20260421T182752
CREATED:20260204T163333Z
LAST-MODIFIED:20260204T163333Z
UID:1369-1793127600-1793131200@50thward.org
SUMMARY:Beat 2413 CAPS Meeting
DESCRIPTION:CAPS meeting for Police Beat 2413 – with police officers. \nFor more information\, call the Community Policing Office at (312) 744-6321 or the 50th Ward Office at (773) 262-1050.
URL:https://50thward.org/event/beat-2413-caps-meeting-21/
LOCATION:Green Briar Park\, 2650 W. Peterson Ave\, Chicago\, IL\, 60659
CATEGORIES:Beat 2413,Police Events
ATTACH;FMTTYPE=image/jpeg:https://50thward.org/wp-content/uploads/2023/12/Chicago-Police-Car-widescreen.jpg
ORGANIZER;CN="24th District CAPS Office":MAILTO:CAPS.024District@chicagopolice.org
END:VEVENT
BEGIN:VEVENT
DTSTART;TZID=UTC:20261028T183000
DTEND;TZID=UTC:20261028T193000
DTSTAMP:20260421T182752
CREATED:20260107T155616Z
LAST-MODIFIED:20260107T155616Z
UID:1228-1793212200-1793215800@50thward.org
SUMMARY:Beat 1711 CAPS Meeting
DESCRIPTION:CAPS meeting for Police Beat 1711 – with police officers. \nFor more information\, call the Community Policing Office at (312) 742-4588 or the 50th Ward Office at (773) 262-1050.
URL:https://50thward.org/event/beat-1711-caps-meeting-21/
LOCATION:Mayfair Church / Salvation Army\, 5020 N. Pulaski Rd\, Chicago\, IL\, 60630
CATEGORIES:Beat 1711,Police Events
ATTACH;FMTTYPE=image/jpeg:https://50thward.org/wp-content/uploads/2023/12/Chicago-Police-Car-widescreen.jpg
ORGANIZER;CN="17th District CAPS Office":MAILTO:CAPS.017District@chicagopolice.org
END:VEVENT
BEGIN:VEVENT
DTSTART;TZID=UTC:20261102T190000
DTEND;TZID=UTC:20261102T200000
DTSTAMP:20260421T182752
CREATED:20260107T155000Z
LAST-MODIFIED:20260107T155000Z
UID:1216-1793646000-1793649600@50thward.org
SUMMARY:Beat 2011 CAPS Meeting
DESCRIPTION:CAPS meeting for Police Beat 2011 – with police officers. \nFor more information\, call the Community Policing Office at (312) 742-8770 or the 50th Ward Office at (773) 262-1050.
URL:https://50thward.org/event/beat-2011-caps-meeting-24/
LOCATION:20th District Station\, 5400 N. Lincoln Ave\, Chicago\, IL\, 60625
CATEGORIES:Beat 2011,Police Events
ATTACH;FMTTYPE=image/jpeg:https://50thward.org/wp-content/uploads/2023/12/Chicago-Police-Car-widescreen.jpg
ORGANIZER;CN="20th District CAPS Office":MAILTO:CAPS.020District@chicagopolice.org
END:VEVENT
BEGIN:VEVENT
DTSTART;TZID=UTC:20261103T190000
DTEND;TZID=UTC:20261103T200000
DTSTAMP:20260421T182752
CREATED:20260202T162753Z
LAST-MODIFIED:20260202T162753Z
UID:1326-1793732400-1793736000@50thward.org
SUMMARY:Beat 2411 CAPS Meeting
DESCRIPTION:CAPS meeting for Police Beat 2411 – with police officers. \nFor more information\, call the Community Policing Office at (312) 744-6321 or the 50th Ward Office at (773) 262-1050.
URL:https://50thward.org/event/beat-2411-caps-meeting-20/
LOCATION:Bethesda International Academy\, 6803 N. Campbell Ave\, Chicago\, IL\, 60645
CATEGORIES:Beat 2411,Police Events
ATTACH;FMTTYPE=image/jpeg:https://50thward.org/wp-content/uploads/2023/12/Chicago-Police-Car-widescreen.jpg
ORGANIZER;CN="24th District CAPS Office":MAILTO:CAPS.024District@chicagopolice.org
END:VEVENT
BEGIN:VEVENT
DTSTART;TZID=UTC:20261104T190000
DTEND;TZID=UTC:20261104T200000
DTSTAMP:20260421T182752
CREATED:20260202T164038Z
LAST-MODIFIED:20260202T164038Z
UID:1348-1793818800-1793822400@50thward.org
SUMMARY:Beat 2412 CAPS Meeting
DESCRIPTION:CAPS meeting for Police Beat 2412 – with police officers. \nFor more information\, call the Community Policing Office at (312) 744-6321 or the 50th Ward Office at (773) 262-1050.
URL:https://50thward.org/event/beat-2412-caps-meeting-16/
LOCATION:Warren Park\, 6601 N. Western Ave\, Chicago\, IL\, 60645
CATEGORIES:Beat 2412,Police Events
ATTACH;FMTTYPE=image/jpeg:https://50thward.org/wp-content/uploads/2023/12/Chicago-Police-Car-widescreen.jpg
ORGANIZER;CN="24th District CAPS Office":MAILTO:CAPS.024District@chicagopolice.org
END:VEVENT
END:VCALENDAR