BEGIN:VCALENDAR
VERSION:2.0
PRODID:-//Chicago&#039;s 50th Ward - ECPv6.15.20//NONSGML v1.0//EN
CALSCALE:GREGORIAN
METHOD:PUBLISH
X-ORIGINAL-URL:https://50thward.org
X-WR-CALDESC:Events for Chicago&#039;s 50th Ward
REFRESH-INTERVAL;VALUE=DURATION:PT1H
X-Robots-Tag:noindex
X-PUBLISHED-TTL:PT1H
BEGIN:VTIMEZONE
TZID:UTC
BEGIN:STANDARD
TZOFFSETFROM:+0000
TZOFFSETTO:+0000
TZNAME:UTC
DTSTART:20220101T000000
END:STANDARD
END:VTIMEZONE
BEGIN:VEVENT
DTSTART;TZID=UTC:20231214T100000
DTEND;TZID=UTC:20231214T140000
DTSTAMP:20260423T191006
CREATED:20231201T155922Z
LAST-MODIFIED:20231201T164315Z
UID:515-1702548000-1702562400@50thward.org
SUMMARY:Veterans Resources Day
DESCRIPTION:Calling all veterans! The 50th Ward is partnering with the US Department of Veterans Affairs to offer a resource center for veterans. Meet individually with experts and get connected to resources tailored for veterans and their families.
URL:https://50thward.org/event/veterans-resources-day/
LOCATION:50th Ward Office\, 2949 W. Devon Ave\, Chicago\, IL\, 60659
CATEGORIES:Special Events
ATTACH;FMTTYPE=image/jpeg:https://50thward.org/wp-content/uploads/2023/12/Veteran-Resources-Day-2.jpg
ORGANIZER;CN="50th Ward Office":MAILTO:info@50thwardchicago.com
END:VEVENT
END:VCALENDAR