BEGIN:VCALENDAR
VERSION:2.0
PRODID:-//Chicago&#039;s 50th Ward - ECPv6.15.20//NONSGML v1.0//EN
CALSCALE:GREGORIAN
METHOD:PUBLISH
X-ORIGINAL-URL:https://50thward.org
X-WR-CALDESC:Events for Chicago&#039;s 50th Ward
REFRESH-INTERVAL;VALUE=DURATION:PT1H
X-Robots-Tag:noindex
X-PUBLISHED-TTL:PT1H
BEGIN:VTIMEZONE
TZID:UTC
BEGIN:STANDARD
TZOFFSETFROM:+0000
TZOFFSETTO:+0000
TZNAME:UTC
DTSTART:20230101T000000
END:STANDARD
END:VTIMEZONE
BEGIN:VEVENT
DTSTART;TZID=UTC:20240806T110000
DTEND;TZID=UTC:20240806T150000
DTSTAMP:20260423T050455
CREATED:20240717T154705Z
LAST-MODIFIED:20240717T155017Z
UID:831-1722942000-1722956400@50thward.org
SUMMARY:Veterans Resources Day
DESCRIPTION:Calling all veterans! The 50th Ward is proudly partnering with the US Department of Veterans Affairs to offer a monthly Veterans Resources Day at the Ward Office. Join us on the first Tuesday of every month from 11 AM to 3 PM at 2949 W. Devon to meet individually with experts and get connected to resources tailored for veterans and their families. \nThe government has many programs available to help those who served. If you are a veteran\, the family member of a veteran\, or you know a veteran in need\, please come to this Veterans Resources Day and get the help you deserve. Staff from the VA will be here to assist with enrollment for health care\, disability & compensation\, employment\, financial assistance\, and more.
URL:https://50thward.org/event/veterans-resources-day-4/
LOCATION:50th Ward Office\, 2949 W. Devon Ave\, Chicago\, IL\, 60659
CATEGORIES:Special Events
ATTACH;FMTTYPE=image/jpeg:https://50thward.org/wp-content/uploads/2024/07/Veterans-Resources-Day-featured-image.jpg
ORGANIZER;CN="50th Ward Office":MAILTO:info@50thwardchicago.com
END:VEVENT
BEGIN:VEVENT
DTSTART;TZID=UTC:20240814T190000
DTEND;TZID=UTC:20240814T213000
DTSTAMP:20260423T050455
CREATED:20240521T195453Z
LAST-MODIFIED:20240808T195450Z
UID:790-1723662000-1723671000@50thward.org
SUMMARY:50th Ward Movie in the Park
DESCRIPTION:Join us at the annual 50th Ward Movie in the Park at Chippewa and enjoy free snacks\, entertainment\, and the movie Migration! \nThe movie begins at dusk\, but the fun begins at 7 PM. We will be sponsoring a special family fair before the show. Come early for free airbrushing\, balloon twisters\, pizza\, and snacks! \nThe fair is underwritten by Alderman Debra Silverstein\, with the help of our sponsors: Senator Ram Villiavalam\, Senator Laura Fine\, Representative Robyn Gabel\, Jewel-Osco (2485 W. Howard)\, and Rita’s of West Ridge (5940 N Lincoln).
URL:https://50thward.org/event/50th-ward-movie-in-the-park/
LOCATION:Chippewa Park\, 6748 N. Sacramento Ave\, Chicago\, IL
CATEGORIES:Special Events,Summer Events
ATTACH;FMTTYPE=image/png:https://50thward.org/wp-content/uploads/2024/08/Movie-in-the-Park-2024-featured-image-2.png
END:VEVENT
BEGIN:VEVENT
DTSTART;TZID=UTC:20240816T123000
DTEND;TZID=UTC:20240816T143000
DTSTAMP:20260423T050455
CREATED:20240517T182417Z
LAST-MODIFIED:20240517T182901Z
UID:762-1723811400-1723818600@50thward.org
SUMMARY:Outdoor Office Hours at Maplewood & Devon
DESCRIPTION:Alderman Silverstein is bringing the 50th Ward Office to you this summer! Come to neighborhood parks and blocks for help with any of your city service needs. We will see you out in the Ward! \nWe will be meeting at the corner of Maplewood & Devon.
URL:https://50thward.org/event/outdoor-office-hours-at-maplewood-devon/
LOCATION:Maplewood & Devon
CATEGORIES:Special Events,Summer Events
ATTACH;FMTTYPE=image/png:https://50thward.org/wp-content/uploads/2024/05/Outdoor-Office-Hours-featured-image.png
ORGANIZER;CN="50th Ward Office":MAILTO:info@50thwardchicago.com
END:VEVENT
END:VCALENDAR