BEGIN:VCALENDAR
VERSION:2.0
PRODID:-//Chicago&#039;s 50th Ward - ECPv6.15.20//NONSGML v1.0//EN
CALSCALE:GREGORIAN
METHOD:PUBLISH
X-WR-CALNAME:Chicago&#039;s 50th Ward
X-ORIGINAL-URL:https://50thward.org
X-WR-CALDESC:Events for Chicago&#039;s 50th Ward
REFRESH-INTERVAL;VALUE=DURATION:PT1H
X-Robots-Tag:noindex
X-PUBLISHED-TTL:PT1H
BEGIN:VTIMEZONE
TZID:UTC
BEGIN:STANDARD
TZOFFSETFROM:+0000
TZOFFSETTO:+0000
TZNAME:UTC
DTSTART:20230101T000000
END:STANDARD
END:VTIMEZONE
BEGIN:VEVENT
DTSTART;TZID=UTC:20240903T110000
DTEND;TZID=UTC:20240903T150000
DTSTAMP:20260423T032055
CREATED:20240806T202325Z
LAST-MODIFIED:20240806T202325Z
UID:853-1725361200-1725375600@50thward.org
SUMMARY:Veterans Resources Day
DESCRIPTION:Calling all veterans! The 50th Ward is proudly partnering with the US Department of Veterans Affairs to offer a monthly Veterans Resources Day at the Ward Office. Join us on the first Tuesday of every month from 11 AM to 3 PM at 2949 W. Devon to meet individually with experts and get connected to resources tailored for veterans and their families. \nThe government has many programs available to help those who served. If you are a veteran\, the family member of a veteran\, or you know a veteran in need\, please come to this Veterans Resources Day and get the help you deserve. Staff from the VA will be here to assist with enrollment for health care\, disability & compensation\, employment\, financial assistance\, and more.
URL:https://50thward.org/event/veterans-resources-day-5/
LOCATION:50th Ward Office\, 2949 W. Devon Ave\, Chicago\, IL\, 60659
CATEGORIES:Special Events
ATTACH;FMTTYPE=image/jpeg:https://50thward.org/wp-content/uploads/2024/07/Veterans-Resources-Day-featured-image.jpg
ORGANIZER;CN="50th Ward Office":MAILTO:info@50thwardchicago.com
END:VEVENT
BEGIN:VEVENT
DTSTART;TZID=UTC:20240905T160000
DTEND;TZID=UTC:20240905T180000
DTSTAMP:20260423T032055
CREATED:20240517T182823Z
LAST-MODIFIED:20240904T205948Z
UID:765-1725552000-1725559200@50thward.org
SUMMARY:Outdoor Office Hours at Rogers Park
DESCRIPTION:Alderman Silverstein is bringing the 50th Ward Office to you this summer! Come to neighborhood parks and blocks for help with any of your city service needs. We will see you out in the Ward! \nWe will be meeting at Rogers Park near the playground by Sherwin & Washtenaw.
URL:https://50thward.org/event/outdoor-office-hours-at-rogers-park/
LOCATION:Rogers Park Playground\, 7345 N. Washtenaw Ave\, Chicago\, IL
CATEGORIES:Special Events,Summer Events
ATTACH;FMTTYPE=image/png:https://50thward.org/wp-content/uploads/2024/05/Outdoor-Office-Hours-featured-image.png
ORGANIZER;CN="50th Ward Office":MAILTO:info@50thwardchicago.com
END:VEVENT
BEGIN:VEVENT
DTSTART;TZID=UTC:20240912T100000
DTEND;TZID=UTC:20240912T130000
DTSTAMP:20260423T032055
CREATED:20240905T152228Z
LAST-MODIFIED:20240910T183509Z
UID:860-1726135200-1726146000@50thward.org
SUMMARY:50th Ward Job Fair
DESCRIPTION:The annual 50th Ward Job Fair is back at the Northtown Library. Join us to meet employers from a broad range of fields and find your next career! Job seekers can register at 50thward.org/jobfair2024. \nWe are expecting the following employers to participate: \nAccentCare\, Aramark Healthcare+ @ Endeavor Health\, Central Management Services\, Chicago Board of Elections\, Chicago Car Care Inc.\, Chicago Cook Workforce Partnership’s Healthcare Sector\, Chicago Federation of Labor Workforce and Community Initiative\, Chicago Fire Department\, Chicago Police Department\, Chicago Transit Authority\, Clerk of the Circuit Court of Cook County\, Dart Container\, Digby’s Detective & Security Agency Inc.\, Doumak Inc.\, Heartland Human Care Services\, Illinois Department of Children and Family Services\, Illinois Department of Human Services\, Illinois State Comptroller\, Illinois State Police\, Illinois State Treasurer\, Illinois Tollway\, Jane Addams Resource Corporation\, Jovie Nannies and Sitters\, Life Ambulance Network\, Metropolitan Water Reclamation District of Greater Chicago\, Pace Suburban Bus\, Pipe Fitters’ Local Union 597\, Refugee One\, S&C Electric Company\, Shore Services\, Target Area Development\, The Cook County Sheriff’s Office\, The Vena Organization \nParking is available in the library parking lot and on the nearby main streets—Pratt Blvd and Western Ave. Overflow parking is available at Warren Park\, 6601 N. Western.
URL:https://50thward.org/event/50th-ward-job-fair/
LOCATION:Northtown Library\, 6800 N. Western Ave\, Chicago\, IL
CATEGORIES:Special Events
ATTACH;FMTTYPE=image/png:https://50thward.org/wp-content/uploads/2024/09/50th-Ward-Job-Fair-2024-featured-image-2.png
ORGANIZER;CN="50th Ward Office":MAILTO:info@50thwardchicago.com
END:VEVENT
END:VCALENDAR