BEGIN:VCALENDAR
VERSION:2.0
PRODID:-//Chicago&#039;s 50th Ward - ECPv6.15.20//NONSGML v1.0//EN
CALSCALE:GREGORIAN
METHOD:PUBLISH
X-WR-CALNAME:Chicago&#039;s 50th Ward
X-ORIGINAL-URL:https://50thward.org
X-WR-CALDESC:Events for Chicago&#039;s 50th Ward
REFRESH-INTERVAL;VALUE=DURATION:PT1H
X-Robots-Tag:noindex
X-PUBLISHED-TTL:PT1H
BEGIN:VTIMEZONE
TZID:UTC
BEGIN:STANDARD
TZOFFSETFROM:+0000
TZOFFSETTO:+0000
TZNAME:UTC
DTSTART:20230101T000000
END:STANDARD
END:VTIMEZONE
BEGIN:VEVENT
DTSTART;TZID=UTC:20241001T110000
DTEND;TZID=UTC:20241001T150000
DTSTAMP:20260423T014439
CREATED:20240926T160756Z
LAST-MODIFIED:20240926T160756Z
UID:882-1727780400-1727794800@50thward.org
SUMMARY:Veterans Resources Day
DESCRIPTION:Calling all veterans! The 50th Ward is proudly partnering with the US Department of Veterans Affairs to offer a monthly Veterans Resources Day at the Ward Office. Join us on the first Tuesday of every month from 11 AM to 3 PM at 2949 W. Devon to meet individually with experts and get connected to resources tailored for veterans and their families. \nThe government has many programs available to help those who served. If you are a veteran\, the family member of a veteran\, or you know a veteran in need\, please come to this Veterans Resources Day and get the help you deserve. Staff from the VA will be here to assist with enrollment for health care\, disability & compensation\, employment\, financial assistance\, and more.
URL:https://50thward.org/event/veterans-resources-day-6/
LOCATION:50th Ward Office\, 2949 W. Devon Ave\, Chicago\, IL\, 60659
CATEGORIES:Special Events
ATTACH;FMTTYPE=image/jpeg:https://50thward.org/wp-content/uploads/2024/07/Veterans-Resources-Day-featured-image.jpg
ORGANIZER;CN="50th Ward Office":MAILTO:info@50thwardchicago.com
END:VEVENT
BEGIN:VEVENT
DTSTART;TZID=UTC:20241028T100000
DTEND;TZID=UTC:20241028T140000
DTSTAMP:20260423T014439
CREATED:20240917T191649Z
LAST-MODIFIED:20240917T194154Z
UID:869-1730109600-1730124000@50thward.org
SUMMARY:50th Ward Vaccine Clinic
DESCRIPTION:Get your free flu shots and COVID-19 vaccines right here in the 50th Ward! Join us at the Croatian Cultural Center for the 50th Ward Vaccine Clinic. Pre-registration is highly encouraged. CLICK HERE to register now.
URL:https://50thward.org/event/50th-ward-vaccine-clinic/
LOCATION:Croatian Cultural Center\, 2845 W. Devon Ave\, Chicago\, IL\, United States
CATEGORIES:Special Events
ATTACH;FMTTYPE=image/png:https://50thward.org/wp-content/uploads/2024/09/50th-Ward-Vaccine-Clinic-featured-image-1.png
ORGANIZER;CN="50th Ward Office":MAILTO:info@50thwardchicago.com
END:VEVENT
END:VCALENDAR