BEGIN:VCALENDAR
VERSION:2.0
PRODID:-//Chicago&#039;s 50th Ward - ECPv6.15.20//NONSGML v1.0//EN
CALSCALE:GREGORIAN
METHOD:PUBLISH
X-ORIGINAL-URL:https://50thward.org
X-WR-CALDESC:Events for Chicago&#039;s 50th Ward
REFRESH-INTERVAL;VALUE=DURATION:PT1H
X-Robots-Tag:noindex
X-PUBLISHED-TTL:PT1H
BEGIN:VTIMEZONE
TZID:UTC
BEGIN:STANDARD
TZOFFSETFROM:+0000
TZOFFSETTO:+0000
TZNAME:UTC
DTSTART:20230101T000000
END:STANDARD
END:VTIMEZONE
BEGIN:VEVENT
DTSTART;TZID=UTC:20241203T110000
DTEND;TZID=UTC:20241203T150000
DTSTAMP:20260422T215233
CREATED:20241121T172440Z
LAST-MODIFIED:20241121T172440Z
UID:889-1733223600-1733238000@50thward.org
SUMMARY:Veterans Resources Day
DESCRIPTION:Calling all veterans! The 50th Ward is proudly partnering with the US Department of Veterans Affairs to offer a monthly Veterans Resources Day at the Ward Office. Join us on the first Tuesday of every month from 11 AM to 3 PM at 2949 W. Devon to meet individually with experts and get connected to resources tailored for veterans and their families. \nThe government has many programs available to help those who served. If you are a veteran\, the family member of a veteran\, or you know a veteran in need\, please come to this Veterans Resources Day and get the help you deserve. Staff from the VA will be here to assist with enrollment for health care\, disability & compensation\, employment\, financial assistance\, and more.
URL:https://50thward.org/event/veterans-resources-day-7/
LOCATION:50th Ward Office\, 2949 W. Devon Ave\, Chicago\, IL\, 60659
CATEGORIES:Special Events
ATTACH;FMTTYPE=image/jpeg:https://50thward.org/wp-content/uploads/2024/07/Veterans-Resources-Day-featured-image.jpg
ORGANIZER;CN="50th Ward Office":MAILTO:info@50thwardchicago.com
END:VEVENT
END:VCALENDAR