BEGIN:VCALENDAR
VERSION:2.0
PRODID:-//Chicago&#039;s 50th Ward - ECPv6.15.20//NONSGML v1.0//EN
CALSCALE:GREGORIAN
METHOD:PUBLISH
X-WR-CALNAME:Chicago&#039;s 50th Ward
X-ORIGINAL-URL:https://50thward.org
X-WR-CALDESC:Events for Chicago&#039;s 50th Ward
REFRESH-INTERVAL;VALUE=DURATION:PT1H
X-Robots-Tag:noindex
X-PUBLISHED-TTL:PT1H
BEGIN:VTIMEZONE
TZID:UTC
BEGIN:STANDARD
TZOFFSETFROM:+0000
TZOFFSETTO:+0000
TZNAME:UTC
DTSTART:20230101T000000
END:STANDARD
END:VTIMEZONE
BEGIN:VEVENT
DTSTART;TZID=UTC:20240403T180000
DTEND;TZID=UTC:20240403T200000
DTSTAMP:20260423T135018
CREATED:20240326T205109Z
LAST-MODIFIED:20240327T152815Z
UID:709-1712167200-1712174400@50thward.org
SUMMARY:Property Tax Appeal Workshop
DESCRIPTION:Calling all Rogers Park Township property owners. Is your tax bill too high? Join Alderman Silverstein and the Cook County Assessor’s Office for an appeals workshop to learn about the assessment process and how to lower your tax bill. Please bring your reassessment notice or most recent property tax bill.
URL:https://50thward.org/event/property-tax-appeal-workshop/
LOCATION:Northtown Library\, 6800 N. Western Ave\, Chicago\, IL
CATEGORIES:Special Events
ATTACH;FMTTYPE=image/png:https://50thward.org/wp-content/uploads/2024/03/4.3.24-50th-ward-2.png
ORGANIZER;CN="50th Ward Office":MAILTO:info@50thwardchicago.com
END:VEVENT
END:VCALENDAR