BEGIN:VCALENDAR
VERSION:2.0
PRODID:-//Chicago&#039;s 50th Ward - ECPv6.15.20//NONSGML v1.0//EN
CALSCALE:GREGORIAN
METHOD:PUBLISH
X-WR-CALNAME:Chicago&#039;s 50th Ward
X-ORIGINAL-URL:https://50thward.org
X-WR-CALDESC:Events for Chicago&#039;s 50th Ward
REFRESH-INTERVAL;VALUE=DURATION:PT1H
X-Robots-Tag:noindex
X-PUBLISHED-TTL:PT1H
BEGIN:VTIMEZONE
TZID:UTC
BEGIN:STANDARD
TZOFFSETFROM:+0000
TZOFFSETTO:+0000
TZNAME:UTC
DTSTART:20230101T000000
END:STANDARD
END:VTIMEZONE
BEGIN:VEVENT
DTSTART;TZID=UTC:20240404T100000
DTEND;TZID=UTC:20240404T140000
DTSTAMP:20260423T134917
CREATED:20240327T152048Z
LAST-MODIFIED:20240327T152048Z
UID:716-1712224800-1712239200@50thward.org
SUMMARY:Property Tax Appeal Help
DESCRIPTION:Calling all Rogers Park Township property owners. Is your tax bill too high? Join Alderman Silverstein and Cook County Commissioner Josina Morita for one-on-one property tax appeal help at the 50th Ward Office. Please bring your reassessment notice or most recent property tax bill. To make an appointment\, visit bit.ly/RogersTaxAppeal
URL:https://50thward.org/event/property-tax-appeal-help/
LOCATION:50th Ward Office\, 2949 W. Devon Ave\, Chicago\, IL\, 60659
CATEGORIES:Special Events
ATTACH;FMTTYPE=image/png:https://50thward.org/wp-content/uploads/2024/03/Property-tax-assistance.png
ORGANIZER;CN="50th Ward Office":MAILTO:info@50thwardchicago.com
END:VEVENT
END:VCALENDAR