BEGIN:VCALENDAR
VERSION:2.0
PRODID:-//Chicago&#039;s 50th Ward - ECPv6.15.20//NONSGML v1.0//EN
CALSCALE:GREGORIAN
METHOD:PUBLISH
X-WR-CALNAME:Chicago&#039;s 50th Ward
X-ORIGINAL-URL:https://50thward.org
X-WR-CALDESC:Events for Chicago&#039;s 50th Ward
REFRESH-INTERVAL;VALUE=DURATION:PT1H
X-Robots-Tag:noindex
X-PUBLISHED-TTL:PT1H
BEGIN:VTIMEZONE
TZID:UTC
BEGIN:STANDARD
TZOFFSETFROM:+0000
TZOFFSETTO:+0000
TZNAME:UTC
DTSTART:20230101T000000
END:STANDARD
END:VTIMEZONE
BEGIN:VEVENT
DTSTART;TZID=UTC:20240606T160000
DTEND;TZID=UTC:20240606T180000
DTSTAMP:20260423T101452
CREATED:20240517T182059Z
LAST-MODIFIED:20240517T182920Z
UID:757-1717689600-1717696800@50thward.org
SUMMARY:Outdoor Office Hours at the Northtown Library
DESCRIPTION:Alderman Silverstein is bringing the 50th Ward Office to you this summer! Come to neighborhood parks and blocks for help with any of your city service needs. We will see you out in the Ward! \nWe will be meeting on Western Avenue by the Northtown Library entrance.
URL:https://50thward.org/event/outdoor-office-hours-at-the-northtown-library/
LOCATION:Northtown Library\, 6800 N. Western Ave\, Chicago\, IL
CATEGORIES:Special Events,Summer Events
ATTACH;FMTTYPE=image/png:https://50thward.org/wp-content/uploads/2024/05/Outdoor-Office-Hours-featured-image.png
ORGANIZER;CN="50th Ward Office":MAILTO:info@50thwardchicago.com
END:VEVENT
END:VCALENDAR