BEGIN:VCALENDAR
VERSION:2.0
PRODID:-//Chicago&#039;s 50th Ward - ECPv6.15.20//NONSGML v1.0//EN
CALSCALE:GREGORIAN
METHOD:PUBLISH
X-ORIGINAL-URL:https://50thward.org
X-WR-CALDESC:Events for Chicago&#039;s 50th Ward
REFRESH-INTERVAL;VALUE=DURATION:PT1H
X-Robots-Tag:noindex
X-PUBLISHED-TTL:PT1H
BEGIN:VTIMEZONE
TZID:UTC
BEGIN:STANDARD
TZOFFSETFROM:+0000
TZOFFSETTO:+0000
TZNAME:UTC
DTSTART:20230101T000000
END:STANDARD
END:VTIMEZONE
BEGIN:VEVENT
DTSTART;TZID=UTC:20240728T090000
DTEND;TZID=UTC:20240728T090000
DTSTAMP:20260423T083949
CREATED:20240521T164237Z
LAST-MODIFIED:20240521T164316Z
UID:784-1722157200-1722157200@50thward.org
SUMMARY:50th Ward Back to School Fair
DESCRIPTION:Help your kids start the school year off on the right foot! Come to the 50th Ward Back to School Fair for free backpacks and school supplies. We will be meeting at the Indian Boundary Park Nature Play Center in the northwest section of the park\, near Estes and Rockwell. Backpacks will be distributed one per child on a first-come\, first-served basis. Backpacks will ONLY be distributed to children\, so make sure your child is present.
URL:https://50thward.org/event/50th-ward-back-to-school-fair/
LOCATION:Indian Boundary Park Nature Play Center
CATEGORIES:Special Events,Summer Events
ATTACH;FMTTYPE=image/jpeg:https://50thward.org/wp-content/uploads/2024/05/Back-to-School-featured-image.jpg
ORGANIZER;CN="50th Ward Office":MAILTO:info@50thwardchicago.com
END:VEVENT
END:VCALENDAR