BEGIN:VCALENDAR
VERSION:2.0
PRODID:-//Chicago&#039;s 50th Ward - ECPv6.15.20//NONSGML v1.0//EN
CALSCALE:GREGORIAN
METHOD:PUBLISH
X-ORIGINAL-URL:https://50thward.org
X-WR-CALDESC:Events for Chicago&#039;s 50th Ward
REFRESH-INTERVAL;VALUE=DURATION:PT1H
X-Robots-Tag:noindex
X-PUBLISHED-TTL:PT1H
BEGIN:VTIMEZONE
TZID:UTC
BEGIN:STANDARD
TZOFFSETFROM:+0000
TZOFFSETTO:+0000
TZNAME:UTC
DTSTART:20240101T000000
END:STANDARD
END:VTIMEZONE
BEGIN:VEVENT
DTSTART;TZID=UTC:20250224T183000
DTEND;TZID=UTC:20250224T193000
DTSTAMP:20260422T181333
CREATED:20250213T182420Z
LAST-MODIFIED:20250213T182715Z
UID:1003-1740421800-1740425400@50thward.org
SUMMARY:Granville Traffic Safety Meeting
DESCRIPTION:Traffic safety updates are coming to Granville Ave between Kedzie and Sheridan. Join us for a community meeting together with the Chicago Department of Transportation (CDOT) to learn about the 50th Ward section of the proposed project. The meeting will be on Monday\, February 24 at 6:30 PM at Congregation F.R.E.E. at 2935 W. Devon Ave. \nThis meeting is a follow-up to a meeting we held in October. The intent is to discuss ways to improve traffic safety on Granville with the ultimate goal to reduce non-local vehicle traffic and encourage slower speeds in order to make the street safer for pedestrians\, cyclists\, and motorists.
URL:https://50thward.org/event/granville-traffic-safety-meeting/
LOCATION:Congregation F.R.E.E.\, 2935 W. Devon Ave\, Chicago\, IL\, 60659
CATEGORIES:Special Events
ATTACH;FMTTYPE=image/jpeg:https://50thward.org/wp-content/uploads/2025/02/Granville-Traffic-Safety-Meeting-featured-image.jpg
ORGANIZER;CN="50th Ward Office":MAILTO:info@50thwardchicago.com
END:VEVENT
END:VCALENDAR