BEGIN:VCALENDAR
VERSION:2.0
PRODID:-//Chicago&#039;s 50th Ward - ECPv6.15.20//NONSGML v1.0//EN
CALSCALE:GREGORIAN
METHOD:PUBLISH
X-ORIGINAL-URL:https://50thward.org
X-WR-CALDESC:Events for Chicago&#039;s 50th Ward
REFRESH-INTERVAL;VALUE=DURATION:PT1H
X-Robots-Tag:noindex
X-PUBLISHED-TTL:PT1H
BEGIN:VTIMEZONE
TZID:UTC
BEGIN:STANDARD
TZOFFSETFROM:+0000
TZOFFSETTO:+0000
TZNAME:UTC
DTSTART:20250101T000000
END:STANDARD
END:VTIMEZONE
BEGIN:VEVENT
DTSTART;TZID=UTC:20260701T110000
DTEND;TZID=UTC:20260701T150000
DTSTAMP:20260421T214551
CREATED:20260107T161748Z
LAST-MODIFIED:20260107T161748Z
UID:1256-1782903600-1782918000@50thward.org
SUMMARY:Veterans Resources Day
DESCRIPTION:Calling all veterans! The 50th Ward is proudly partnering with the Veterans Assistance Commission of Cook County (VACCC) to offer a monthly Veterans Resources Day at the Ward Office. Join us on the first Wednesday of every month from 11 AM to 3 PM at 2949 W. Devon to meet individually with experts and get connected to resources tailored for veterans and their families. \nThe government has many programs available to help those who served. If you are a veteran\, the family member of a veteran\, or you know a veteran in need\, please come to this Veterans Resources Day and get the help you deserve. A veterans service officer will be here to assist with enrollment for health care\, disability & compensation\, employment\, financial assistance\, and more.
URL:https://50thward.org/event/veterans-resources-day-18/
LOCATION:50th Ward Office\, 2949 W. Devon Ave\, Chicago\, IL\, 60659
CATEGORIES:Special Events
ATTACH;FMTTYPE=image/png:https://50thward.org/wp-content/uploads/2025/10/Veterans-Resource-Day-featured-image-scaled.png
ORGANIZER;CN="50th Ward Office":MAILTO:info@50thwardchicago.com
END:VEVENT
END:VCALENDAR