BEGIN:VCALENDAR
VERSION:2.0
PRODID:-//Chicago&#039;s 50th Ward - ECPv6.15.20//NONSGML v1.0//EN
CALSCALE:GREGORIAN
METHOD:PUBLISH
X-ORIGINAL-URL:https://50thward.org
X-WR-CALDESC:Events for Chicago&#039;s 50th Ward
REFRESH-INTERVAL;VALUE=DURATION:PT1H
X-Robots-Tag:noindex
X-PUBLISHED-TTL:PT1H
BEGIN:VTIMEZONE
TZID:UTC
BEGIN:STANDARD
TZOFFSETFROM:+0000
TZOFFSETTO:+0000
TZNAME:UTC
DTSTART:20230101T000000
END:STANDARD
END:VTIMEZONE
BEGIN:VEVENT
DTSTART;TZID=UTC:20240604T180000
DTEND;TZID=UTC:20240604T180000
DTSTAMP:20260424T063923
CREATED:20240523T191300Z
LAST-MODIFIED:20240523T191300Z
UID:795-1717524000-1717524000@50thward.org
SUMMARY:CHI vs Hate Webinar
DESCRIPTION:Join Alderman Debra Silverstein\, Commissioner Nancy Andrade of the Chicago Commission on Human Relations\, and officers from the CHicago Police Civil Rights Unit for an important discussion on curbing hate crimes in Chicago. \nRegister at 50thward.org/CHIvsHate for a meeting link. We will discuss CHI vs Hate\, the innovative new legislation Alderman Silverstein passed which helps Chicago report and track hate crimes and non-criminal hate incidents that may lead to violence. Learn how to report discrimination\, hate\, and bias incidents in Chicago and hear from the experts about how your 911 or 311 call goes from report to action.
URL:https://50thward.org/event/chi-vs-hate-webinar/
LOCATION:https://50thward.org/CHIvsHate
CATEGORIES:Special Events,Summer Events
ATTACH;FMTTYPE=image/jpeg:https://50thward.org/wp-content/uploads/2024/05/CHI-vs-Hate-Town-Webinar-featured-image.jpg
ORGANIZER;CN="50th Ward Office":MAILTO:info@50thwardchicago.com
END:VEVENT
END:VCALENDAR