BEGIN:VCALENDAR
VERSION:2.0
PRODID:-//Chicago&#039;s 50th Ward - ECPv6.15.20//NONSGML v1.0//EN
CALSCALE:GREGORIAN
METHOD:PUBLISH
X-WR-CALNAME:Chicago&#039;s 50th Ward
X-ORIGINAL-URL:https://50thward.org
X-WR-CALDESC:Events for Chicago&#039;s 50th Ward
REFRESH-INTERVAL;VALUE=DURATION:PT1H
X-Robots-Tag:noindex
X-PUBLISHED-TTL:PT1H
BEGIN:VTIMEZONE
TZID:UTC
BEGIN:STANDARD
TZOFFSETFROM:+0000
TZOFFSETTO:+0000
TZNAME:UTC
DTSTART:20240101T000000
END:STANDARD
END:VTIMEZONE
BEGIN:VEVENT
DTSTART;TZID=UTC:20250625T163000
DTEND;TZID=UTC:20250625T180000
DTSTAMP:20260423T081105
CREATED:20250515T164056Z
LAST-MODIFIED:20250515T164444Z
UID:1104-1750869000-1750874400@50thward.org
SUMMARY:Outdoor Office Hours & Ice Cream Social at Lunt Playlot Park
DESCRIPTION:Celebrate the summer together with Alderman Silverstein and your neighbors. Join us for free ice cream and outdoor office hours at one of our events across the neighborhood. We will see you out in the Ward! \nWe will be meeting at Lunt Playlot Park at 2239 W. Lunt Ave.
URL:https://50thward.org/event/outdoor-office-hours-ice-cream-social-at-lunt-playlot-park/
LOCATION:Lunt Playlot Park\, 2239 W. Lunt Ave.\, Chicago\, IL
CATEGORIES:Special Events,Summer Events
ATTACH;FMTTYPE=image/png:https://50thward.org/wp-content/uploads/2025/05/Summer-Events-2025-featured-image.png
ORGANIZER;CN="50th Ward Office":MAILTO:info@50thwardchicago.com
END:VEVENT
END:VCALENDAR