BEGIN:VCALENDAR
VERSION:2.0
PRODID:-//Chicago&#039;s 50th Ward - ECPv6.15.20//NONSGML v1.0//EN
CALSCALE:GREGORIAN
METHOD:PUBLISH
X-WR-CALNAME:Chicago&#039;s 50th Ward
X-ORIGINAL-URL:https://50thward.org
X-WR-CALDESC:Events for Chicago&#039;s 50th Ward
REFRESH-INTERVAL;VALUE=DURATION:PT1H
X-Robots-Tag:noindex
X-PUBLISHED-TTL:PT1H
BEGIN:VTIMEZONE
TZID:UTC
BEGIN:STANDARD
TZOFFSETFROM:+0000
TZOFFSETTO:+0000
TZNAME:UTC
DTSTART:20240101T000000
END:STANDARD
END:VTIMEZONE
BEGIN:VEVENT
DTSTART;TZID=UTC:20250727T090000
DTEND;TZID=UTC:20250727T090000
DTSTAMP:20260423T063136
CREATED:20250515T163048Z
LAST-MODIFIED:20250718T171747Z
UID:1098-1753606800-1753606800@50thward.org
SUMMARY:50th Ward Back to School Giveaway
DESCRIPTION:Help your kids start the school year off on the right foot! Come to the 50th Ward Back to School Giveaway for free backpacks and school supplies. We will be meeting at the Indian Boundary Park Nature Play Center in the northwest section of the park\, near Estes and Rockwell. Backpacks will be distributed one per child on a first-come\, first-served basis. Backpacks will ONLY be distributed to children\, so make sure your child is present. \nNEW THIS YEAR: We will be hosting a Touch-A-Truck\, in partnership with State Senator Ram Villivalam and State Representative Kevin Olickal. After you get your backpack\, let your kids explore a real Chicago ambulance and fire truck. Please note: All CFD vehicles are in-service and could get called away for emergency calls.
URL:https://50thward.org/event/50th-ward-back-to-school-giveaway/
LOCATION:Indian Boundary Park Nature Play Center
CATEGORIES:Special Events,Summer Events
ATTACH;FMTTYPE=image/png:https://50thward.org/wp-content/uploads/2025/05/Back-to-School-2025-Cover-Image.png
ORGANIZER;CN="50th Ward Office":MAILTO:info@50thwardchicago.com
END:VEVENT
END:VCALENDAR